0.2
0
0
-0.2
655410.1
5068229.9
