0.2
0
0
-0.2
658650.1
5068309.9
