0.2
0
0
-0.2
655270.1
5073779.9
