0.2
0
0
-0.2
649130.1
5059739.9
