0.2
0
0
-0.2
619710.1
5070199.9
