0.2
0
0
-0.2
703300.1
5091879.9
