0.2
0
0
-0.2
683920.1
5091259.9
