0.2
0
0
-0.2
703200.1
5094659.9
