0.2
0
0
-0.2
703110.1
5097439.9
