0.2
0
0
-0.2
680610.1
5093939.9
