0.2
0
0
-0.2
655210.1
5076559.9
