0.2
0
0
-0.2
668000.1
5082459.9
