0.2
0
0
-0.2
664770.1
5082369.9
