0.2
0
0
-0.2
655070.1
5082119.9
