0.2
0
0
-0.2
658300.1
5082199.9
