0.2
0
0
-0.2
674310.1
5088199.9
