0.2
0
0
-0.2
677460.1
5091070.1
