0.2
0
0
-0.2
667770.1
5090790.1
