0.2
0
0
-0.2
664550.1
5090710.1
