0.2
0
0
-0.2
674080.1
5096530.1
