0.2
0
0
-0.2
670850.1
5096440.1
