0.2
0
0
-0.2
661240.1
5093400.1
