0.2
0
0
-0.2
664470.1
5093480.1
