0.2
0
0
-0.2
642200.1
5079019.9
