0.2
0
0
-0.2
645500.1
5076319.9
