0.2
0
0
-0.2
645430.1
5079099.9
