0.2
0
0
-0.2
635730.1
5078869.9
