0.2
0
0
-0.2
629260.1
5078729.9
