0.2
0
0
-0.2
645300.1
5084649.9
