0.2
0
0
-0.2
642000.1
5087359.9
