0.2
0
0
-0.2
645170.1
5090209.9
