0.2
0
0
-0.2
635540.1
5087209.9
