0.2
0
0
-0.2
629080.1
5087069.9
