0.2
0
0
-0.2
641880.1
5092909.9
