0.2
0
0
-0.2
638650.1
5092839.9
