0.2
0
0
-0.2
622840.1
5075819.9
