0.2
0
0
-0.2
619500.1
5081309.9
