0.2
0
0
-0.2
612980.1
5083959.9
