0.200000
0.000000
0.000000
-0.200000
616050.100000
5092359.900000
