0.2
0
0
-0.2
706250.1
5100319.9
