0.2
0
0
-0.2
712410.1
5108879.9
