0.2
0
0
-0.2
715630.1
5108989.9
