0.2
0
0
-0.2
705970.1
5108649.9
