0.2
0
0
-0.2
709280.1
5105989.9
