0.2
0
0
-0.2
721970.1
5111999.9
