0.2
0
0
-0.2
715530.1
5111769.9
