0.2
0
0
-0.2
709000.1
5114319.9
