0.2
0
0
-0.2
724880.1
5120449.9
