0.2
0
0
-0.2
728100.1
5120569.9
