0.2
0
0
-0.2
712120.1
5117209.9
